BEGIN:VCALENDAR
VERSION:2.0
PRODID:spatie/icalendar-generator
DESCRIPTION:Veranstaltungen von Omas gegen Rechts Erfurt
X-WR-CALDESC:Veranstaltungen von Omas gegen Rechts Erfurt
REFRESH-INTERVAL;VALUE=DURATION:PT1440M
X-PUBLISHED-TTL:PT1440M
BEGIN:VTIMEZONE
TZID:Etc/GMT+0
BEGIN:STANDARD
DTSTART:20250706T160000Z
TZOFFSETFROM:+0000
TZOFFSETTO:+0000
END:STANDARD
END:VTIMEZONE
BEGIN:VTIMEZONE
TZID:UTC
BEGIN:STANDARD
DTSTART:20250726T171548Z
TZOFFSETFROM:+0000
TZOFFSETTO:+0000
END:STANDARD
END:VTIMEZONE
BEGIN:VEVENT
UID:105-82
DTSTAMP:20260422T171548Z
SUMMARY:Ostermarsch Erfurt
LOCATION:Anger1
ORGANIZER;CN=Bernhard Wanner:MAILTO:bernhardw45@gmail.com
DTSTART;TZID=Etc/GMT+0:20260402T160000
DTEND;TZID=Etc/GMT+0:20260402T180000
X-ALT-DESC;FMTTYPE=TEXT/HTML:Die Kundgebung beginnt am Anger 1. Die Marschr
 oute führt dann über Staatskanzlei und Fischmarkt zur Ruine der Barfüß
 erkirche. Ankunft dort ist dann etwa um 18 Uhr. Veranstalter: Erfurter Fri
 edensbündnis
CATEGORIES:Termine anderer Veranstalter
URL;VALUE=URI:https://omas-gegen-rechts-erfurt.de/mc-events/ostermarsch-erf
 urt/
METHOD:PUBLISH
END:VEVENT
END:VCALENDAR