BEGIN:VCALENDAR
VERSION:2.0
PRODID:spatie/icalendar-generator
DESCRIPTION:Veranstaltungen von Omas gegen Rechts Erfurt
X-WR-CALDESC:Veranstaltungen von Omas gegen Rechts Erfurt
REFRESH-INTERVAL;VALUE=DURATION:PT1440M
X-PUBLISHED-TTL:PT1440M
BEGIN:VTIMEZONE
TZID:Etc/GMT+0
BEGIN:STANDARD
DTSTART:20250804T000000Z
TZOFFSETFROM:+0000
TZOFFSETTO:+0000
END:STANDARD
END:VTIMEZONE
BEGIN:VTIMEZONE
TZID:UTC
BEGIN:STANDARD
DTSTART:20250726T172043Z
TZOFFSETFROM:+0000
TZOFFSETTO:+0000
END:STANDARD
END:VTIMEZONE
BEGIN:VEVENT
UID:90-68
DTSTAMP:20260422T172043Z
SUMMARY:Tag der Arbeit - DGB-Kundgebung auf dem Anger
LOCATION:
ORGANIZER;CN=Thomas:MAILTO:thomas@scharfstaedt.de
DTSTART;TZID=Etc/GMT+0;VALUE=DATE:20260501
DTEND;TZID=Etc/GMT+0;VALUE=DATE:20260502
X-ALT-DESC;FMTTYPE=TEXT/HTML:Stand der Omas gegen Rechts Erfurt\; bitte vor
 merken!
CATEGORIES:Mitglieder &amp; Aktive
URL;VALUE=URI:https://omas-gegen-rechts-erfurt.de/mc-events/tag-der-arbeit-
 dgb-kundgebung-auf-dem-anger/
METHOD:PUBLISH
END:VEVENT
END:VCALENDAR