BEGIN:VCALENDAR
VERSION:2.0
PRODID:spatie/icalendar-generator
DESCRIPTION:Veranstaltungen von Omas gegen Rechts Erfurt
X-WR-CALDESC:Veranstaltungen von Omas gegen Rechts Erfurt
REFRESH-INTERVAL;VALUE=DURATION:PT1440M
X-PUBLISHED-TTL:PT1440M
BEGIN:VTIMEZONE
TZID:Etc/GMT+0
BEGIN:STANDARD
DTSTART:20250715T000000Z
TZOFFSETFROM:+0000
TZOFFSETTO:+0000
END:STANDARD
END:VTIMEZONE
BEGIN:VTIMEZONE
TZID:UTC
BEGIN:STANDARD
DTSTART:20250726T154202Z
TZOFFSETFROM:+0000
TZOFFSETTO:+0000
END:STANDARD
END:VTIMEZONE
BEGIN:VEVENT
UID:108-66
DTSTAMP:20260422T154202Z
SUMMARY:Tag der Befreiung des KZ Buchenwald
LOCATION:
ORGANIZER;CN=Thomas:MAILTO:thomas@scharfstaedt.de
DTSTART;TZID=Etc/GMT+0;VALUE=DATE:20260411
DTEND;TZID=Etc/GMT+0;VALUE=DATE:20260412
X-ALT-DESC;FMTTYPE=TEXT/HTML:Neben dem Gedenken ist wichtig\, dass die Zivi
 lgesellschaft dieses Jahr Gesicht zeigt. Informationen für Mitglieder fol
 gen.
CATEGORIES:Gedenktage
URL;VALUE=URI:https://omas-gegen-rechts-erfurt.de/mc-events/tag-der-befreiu
 ng-des-kz-buchenwald/
METHOD:PUBLISH
END:VEVENT
END:VCALENDAR