BEGIN:VCALENDAR
VERSION:2.0
PRODID:spatie/icalendar-generator
DESCRIPTION:Veranstaltungen von Omas gegen Rechts Erfurt
X-WR-CALDESC:Veranstaltungen von Omas gegen Rechts Erfurt
REFRESH-INTERVAL;VALUE=DURATION:PT1440M
X-PUBLISHED-TTL:PT1440M
BEGIN:VTIMEZONE
TZID:Etc/GMT+0
BEGIN:STANDARD
DTSTART:20250727T170000Z
TZOFFSETFROM:+0000
TZOFFSETTO:+0000
END:STANDARD
END:VTIMEZONE
BEGIN:VTIMEZONE
TZID:UTC
BEGIN:STANDARD
DTSTART:20250726T154129Z
TZOFFSETFROM:+0000
TZOFFSETTO:+0000
END:STANDARD
END:VTIMEZONE
BEGIN:VEVENT
UID:110-84
DTSTAMP:20260422T154129Z
SUMMARY:Stammtisch im Cafe Mehlhose
LOCATION:FRANZ MEHLHOSE Kultur &amp;amp\; Café  Löberstraße 12   Erfurt  990
 84
ORGANIZER;CN=Thomas:MAILTO:thomas@scharfstaedt.de
DTSTART;TZID=Etc/GMT+0:20260423T170000
DTEND;TZID=Etc/GMT+0:20260423T200000
X-ALT-DESC;FMTTYPE=TEXT/HTML:Wir treffen uns wieder zwanglos zum Austausch 
 und Gespräch. Ihr seid herzlich eingeladen.
CATEGORIES:Mitglieder &amp; Aktive
URL;VALUE=URI:https://omas-gegen-rechts-erfurt.de/mc-events/stammtisch-im-c
 afe-mehlhose/
METHOD:PUBLISH
END:VEVENT
END:VCALENDAR